BEGIN:VCALENDAR
VERSION:2.0
PRODID:-//CPC- Calvary Praise Church - ECPv6.15.20//NONSGML v1.0//EN
CALSCALE:GREGORIAN
METHOD:PUBLISH
X-ORIGINAL-URL:https://calvarypraisechurch.org
X-WR-CALDESC:Events for CPC- Calvary Praise Church
REFRESH-INTERVAL;VALUE=DURATION:PT1H
X-Robots-Tag:noindex
X-PUBLISHED-TTL:PT1H
BEGIN:VTIMEZONE
TZID:America/Denver
BEGIN:DAYLIGHT
TZOFFSETFROM:-0700
TZOFFSETTO:-0600
TZNAME:MDT
DTSTART:20240310T090000
END:DAYLIGHT
BEGIN:STANDARD
TZOFFSETFROM:-0600
TZOFFSETTO:-0700
TZNAME:MST
DTSTART:20241103T080000
END:STANDARD
BEGIN:DAYLIGHT
TZOFFSETFROM:-0700
TZOFFSETTO:-0600
TZNAME:MDT
DTSTART:20250309T090000
END:DAYLIGHT
BEGIN:STANDARD
TZOFFSETFROM:-0600
TZOFFSETTO:-0700
TZNAME:MST
DTSTART:20251102T080000
END:STANDARD
BEGIN:DAYLIGHT
TZOFFSETFROM:-0700
TZOFFSETTO:-0600
TZNAME:MDT
DTSTART:20260308T090000
END:DAYLIGHT
BEGIN:STANDARD
TZOFFSETFROM:-0600
TZOFFSETTO:-0700
TZNAME:MST
DTSTART:20261101T080000
END:STANDARD
END:VTIMEZONE
BEGIN:VTIMEZONE
TZID:UTC
BEGIN:STANDARD
TZOFFSETFROM:+0000
TZOFFSETTO:+0000
TZNAME:UTC
DTSTART:20230101T000000
END:STANDARD
END:VTIMEZONE
BEGIN:VEVENT
DTSTART;TZID=America/Denver:20250402T183000
DTEND;TZID=America/Denver:20250402T193000
DTSTAMP:20260422T161029
CREATED:20250102T012031Z
LAST-MODIFIED:20250327T234855Z
UID:2017-1743618600-1743622200@calvarypraisechurch.org
SUMMARY:Bible Studies
DESCRIPTION:
URL:https://calvarypraisechurch.org/event/bible-studies-9/
LOCATION:Online
CATEGORIES:Bible,Weekly Meetings
ATTACH;FMTTYPE=image/png:https://calvarypraisechurch.org/wp-content/uploads/2017/08/CPC_bible_studies16229-1.png
END:VEVENT
BEGIN:VEVENT
DTSTART;TZID=UTC:20250326T183000
DTEND;TZID=UTC:20250326T193000
DTSTAMP:20260422T161029
CREATED:20250102T065932Z
LAST-MODIFIED:20250202T010943Z
UID:2015-1743013800-1743017400@calvarypraisechurch.org
SUMMARY:Bible Studies
DESCRIPTION:
URL:https://calvarypraisechurch.org/event/bible-studies-8/
LOCATION:Online
CATEGORIES:Bible,Weekly Meetings
ATTACH;FMTTYPE=image/png:https://calvarypraisechurch.org/wp-content/uploads/2017/08/CPC_bible_studies16229-1.png
END:VEVENT
BEGIN:VEVENT
DTSTART;TZID=America/Denver:20250319T183000
DTEND;TZID=America/Denver:20250319T193000
DTSTAMP:20260422T161029
CREATED:20250102T065911Z
LAST-MODIFIED:20250202T011911Z
UID:2013-1742409000-1742412600@calvarypraisechurch.org
SUMMARY:Bible Studies
DESCRIPTION:
URL:https://calvarypraisechurch.org/event/bible-studies-7/
LOCATION:Online
CATEGORIES:Bible,Weekly Meetings
ATTACH;FMTTYPE=image/png:https://calvarypraisechurch.org/wp-content/uploads/2017/08/CPC_bible_studies16229-1.png
END:VEVENT
BEGIN:VEVENT
DTSTART;TZID=UTC:20250312T183000
DTEND;TZID=UTC:20250312T193000
DTSTAMP:20260422T161029
CREATED:20250102T065946Z
LAST-MODIFIED:20250202T011134Z
UID:2011-1741804200-1741807800@calvarypraisechurch.org
SUMMARY:Bible Studies
DESCRIPTION:
URL:https://calvarypraisechurch.org/event/bible-studies-6/
LOCATION:Online
CATEGORIES:Bible,Weekly Meetings
ATTACH;FMTTYPE=image/png:https://calvarypraisechurch.org/wp-content/uploads/2017/08/CPC_bible_studies16229-1.png
END:VEVENT
BEGIN:VEVENT
DTSTART;TZID=America/Denver:20250305T183000
DTEND;TZID=America/Denver:20250305T193000
DTSTAMP:20260422T161029
CREATED:20250102T065943Z
LAST-MODIFIED:20250227T093030Z
UID:2009-1741199400-1741203000@calvarypraisechurch.org
SUMMARY:Bible Studies
DESCRIPTION:
URL:https://calvarypraisechurch.org/event/bible-studies-5/
LOCATION:Online
CATEGORIES:Bible,Weekly Meetings
ATTACH;FMTTYPE=image/png:https://calvarypraisechurch.org/wp-content/uploads/2017/08/CPC_bible_studies16229-1.png
END:VEVENT
BEGIN:VEVENT
DTSTART;TZID=America/Denver:20250226T183000
DTEND;TZID=America/Denver:20250226T193000
DTSTAMP:20260422T161029
CREATED:20250102T065911Z
LAST-MODIFIED:20250220T145128Z
UID:2007-1740594600-1740598200@calvarypraisechurch.org
SUMMARY:Bible Studies
DESCRIPTION:
URL:https://calvarypraisechurch.org/event/bible-studies-4/
LOCATION:Online
CATEGORIES:Bible,Weekly Meetings
ATTACH;FMTTYPE=image/png:https://calvarypraisechurch.org/wp-content/uploads/2017/08/CPC_bible_studies16229.png
END:VEVENT
BEGIN:VEVENT
DTSTART;TZID=America/Denver:20250219T063000
DTEND;TZID=America/Denver:20250219T193000
DTSTAMP:20260422T161029
CREATED:20250213T083042Z
LAST-MODIFIED:20250215T020539Z
UID:2005-1739946600-1739993400@calvarypraisechurch.org
SUMMARY:Bible Studies
DESCRIPTION:
URL:https://calvarypraisechurch.org/event/bible-studies-3/
LOCATION:Online
CATEGORIES:Bible,Weekly Meetings
ATTACH;FMTTYPE=image/png:https://calvarypraisechurch.org/wp-content/uploads/2017/08/CPC_bible_studies16229.png
END:VEVENT
BEGIN:VEVENT
DTSTART;TZID=America/Denver:20250212T183000
DTEND;TZID=America/Denver:20250212T193000
DTSTAMP:20260422T161029
CREATED:20250102T065919Z
LAST-MODIFIED:20250202T011537Z
UID:2003-1739385000-1739388600@calvarypraisechurch.org
SUMMARY:Bible Studies
DESCRIPTION:
URL:https://calvarypraisechurch.org/event/bible-studies-2/
LOCATION:Online
CATEGORIES:Bible,Weekly Meetings
ATTACH;FMTTYPE=image/png:https://calvarypraisechurch.org/wp-content/uploads/2017/08/CPC_bible_studies16229.png
END:VEVENT
BEGIN:VEVENT
DTSTART;TZID=America/Denver:20250205T183000
DTEND;TZID=America/Denver:20250205T193000
DTSTAMP:20260422T161029
CREATED:20250102T065959Z
LAST-MODIFIED:20250202T011844Z
UID:2001-1738780200-1738783800@calvarypraisechurch.org
SUMMARY:Bible Studies
DESCRIPTION:
URL:https://calvarypraisechurch.org/event/bible-studies/
LOCATION:Online
CATEGORIES:Bible,Weekly Meetings
ATTACH;FMTTYPE=image/png:https://calvarypraisechurch.org/wp-content/uploads/2017/08/CPC_bible_studies16229.png
END:VEVENT
BEGIN:VEVENT
DTSTART;TZID=America/Denver:20250129T183000
DTEND;TZID=America/Denver:20250129T193000
DTSTAMP:20260422T161029
CREATED:20250127T042442Z
LAST-MODIFIED:20250201T084651Z
UID:79-1738175400-1738179000@calvarypraisechurch.org
SUMMARY:Bible Studies
DESCRIPTION:
URL:https://calvarypraisechurch.org/event/god-is-good/
LOCATION:Online
CATEGORIES:Bible,Weekly Meetings
ATTACH;FMTTYPE=image/png:https://calvarypraisechurch.org/wp-content/uploads/2017/08/CPC_bible_studies16229-1.png
END:VEVENT
BEGIN:VEVENT
DTSTART;TZID=UTC:20250105T183000
DTEND;TZID=UTC:20250125T190000
DTSTAMP:20260422T161029
CREATED:20241229T103445Z
LAST-MODIFIED:20250213T160631Z
UID:1544-1736101800-1737831600@calvarypraisechurch.org
SUMMARY:Fasting 2025
DESCRIPTION:It is settled: Joel 2:25-26 \n21 days of Prayer and fasting \nSunday 5th – Saturday 25th January\, 2025 \nMonday – Thursday : 6:30 pm \nFriday : 7:00pm \n 
URL:https://calvarypraisechurch.org/event/it-is-settled/
CATEGORIES:Fasting,Weekly Meetings
ATTACH;FMTTYPE=image/png:https://calvarypraisechurch.org/wp-content/uploads/2024/12/its-settled.png
END:VEVENT
BEGIN:VEVENT
DTSTART;TZID=UTC:20250103T080000
DTEND;TZID=UTC:20250120T170000
DTSTAMP:20260422T161029
CREATED:20250103T233023Z
LAST-MODIFIED:20250104T004053Z
UID:1655-1735891200-1737392400@calvarypraisechurch.org
SUMMARY:Season Greetings
DESCRIPTION:Season Greetings from lead Pastor and family!!
URL:https://calvarypraisechurch.org/event/season-greetings/
CATEGORIES:Season Greetings
ATTACH;FMTTYPE=image/jpeg:https://calvarypraisechurch.org/wp-content/uploads/2025/01/fceb0cae-6a26-461e-b16c-898910f041f0.jpeg
END:VEVENT
BEGIN:VEVENT
DTSTART;TZID=UTC:20241231T220000
DTEND;TZID=UTC:20250101T013000
DTSTAMP:20260422T161029
CREATED:20241229T102514Z
LAST-MODIFIED:20250121T090341Z
UID:1538-1735682400-1735695000@calvarypraisechurch.org
SUMMARY:Cross Over Service
DESCRIPTION:Join us at the Calvary Praise Auditorium tonight for a powerful watchnight service as we cross over into 2025 our year of Devine Settlement. \nWhen: 31st December 2024\, 10:00PM – 12:30 AM\nWhere: Church Auditorium \n 
URL:https://calvarypraisechurch.org/event/cross-over-service/
CATEGORIES:Service,Weekly Meetings
ATTACH;FMTTYPE=image/png:https://calvarypraisechurch.org/wp-content/uploads/2024/12/CPC_crossover_2025.png
END:VEVENT
BEGIN:VEVENT
DTSTART;TZID=UTC:20241224T190000
DTEND;TZID=UTC:20241228T093600
DTSTAMP:20260422T161029
CREATED:20241228T163647Z
LAST-MODIFIED:20250121T062254Z
UID:1531-1735066800-1735378560@calvarypraisechurch.org
SUMMARY:Carols Night
DESCRIPTION:  \nWhen: 24th December\, 2024 \nNight of Gold\, Frankincinse and Myrrh
URL:https://calvarypraisechurch.org/event/carols-night/
LOCATION:CPC Auditorium\, 4080 23st NE\, Calgary\, Canada
CATEGORIES:Special Occasions
ATTACH;FMTTYPE=image/jpeg:https://calvarypraisechurch.org/wp-content/uploads/2024/12/WhatsApp-Image-2024-12-24-at-04.41.25-1-e1737414589944.jpeg
END:VEVENT
BEGIN:VEVENT
DTSTART;TZID=UTC:20241201T080000
DTEND;TZID=UTC:20241201T100000
DTSTAMP:20260422T161029
CREATED:20241211T225011Z
LAST-MODIFIED:20250103T124740Z
UID:915-1733040000-1733047200@calvarypraisechurch.org
SUMMARY:Communion Sunday
DESCRIPTION:Join us for a sacred and uplifting Communion Service\, a time to reflect\, connect\, and deepen our spiritual journey. This solemn gathering invites you to partake in the Holy Communion\, remembering the sacrifice of Christ and celebrating the unity of the body of believers. \nExpect a heartfelt worship experience\, inspiring messages\, and a moment of personal and collective reflection. Come as you are and be part of this meaningful encounter with God. \nWhen: First Sunday of each month.\nLocation: Church Auditorium \nAll are welcome to share in this sacred moment of faith and fellowship.
URL:https://calvarypraisechurch.org/event/communion-service/
CATEGORIES:Crucification,Special Occasions
ATTACH;FMTTYPE=image/png:https://calvarypraisechurch.org/wp-content/uploads/2024/12/communion_img.1.png
END:VEVENT
END:VCALENDAR