BEGIN:VCALENDAR
VERSION:2.0
PRODID:-//CPC- Calvary Praise Church - ECPv6.15.20//NONSGML v1.0//EN
CALSCALE:GREGORIAN
METHOD:PUBLISH
X-ORIGINAL-URL:https://calvarypraisechurch.org
X-WR-CALDESC:Events for CPC- Calvary Praise Church
REFRESH-INTERVAL;VALUE=DURATION:PT1H
X-Robots-Tag:noindex
X-PUBLISHED-TTL:PT1H
BEGIN:VTIMEZONE
TZID:America/Denver
BEGIN:DAYLIGHT
TZOFFSETFROM:-0700
TZOFFSETTO:-0600
TZNAME:MDT
DTSTART:20240310T090000
END:DAYLIGHT
BEGIN:STANDARD
TZOFFSETFROM:-0600
TZOFFSETTO:-0700
TZNAME:MST
DTSTART:20241103T080000
END:STANDARD
BEGIN:DAYLIGHT
TZOFFSETFROM:-0700
TZOFFSETTO:-0600
TZNAME:MDT
DTSTART:20250309T090000
END:DAYLIGHT
BEGIN:STANDARD
TZOFFSETFROM:-0600
TZOFFSETTO:-0700
TZNAME:MST
DTSTART:20251102T080000
END:STANDARD
BEGIN:DAYLIGHT
TZOFFSETFROM:-0700
TZOFFSETTO:-0600
TZNAME:MDT
DTSTART:20260308T090000
END:DAYLIGHT
BEGIN:STANDARD
TZOFFSETFROM:-0600
TZOFFSETTO:-0700
TZNAME:MST
DTSTART:20261101T080000
END:STANDARD
BEGIN:DAYLIGHT
TZOFFSETFROM:-0700
TZOFFSETTO:-0600
TZNAME:MDT
DTSTART:20270314T090000
END:DAYLIGHT
BEGIN:STANDARD
TZOFFSETFROM:-0600
TZOFFSETTO:-0700
TZNAME:MST
DTSTART:20271107T080000
END:STANDARD
END:VTIMEZONE
BEGIN:VTIMEZONE
TZID:America/Chicago
BEGIN:DAYLIGHT
TZOFFSETFROM:-0600
TZOFFSETTO:-0500
TZNAME:CDT
DTSTART:20240310T080000
END:DAYLIGHT
BEGIN:STANDARD
TZOFFSETFROM:-0500
TZOFFSETTO:-0600
TZNAME:CST
DTSTART:20241103T070000
END:STANDARD
BEGIN:DAYLIGHT
TZOFFSETFROM:-0600
TZOFFSETTO:-0500
TZNAME:CDT
DTSTART:20250309T080000
END:DAYLIGHT
BEGIN:STANDARD
TZOFFSETFROM:-0500
TZOFFSETTO:-0600
TZNAME:CST
DTSTART:20251102T070000
END:STANDARD
BEGIN:DAYLIGHT
TZOFFSETFROM:-0600
TZOFFSETTO:-0500
TZNAME:CDT
DTSTART:20260308T080000
END:DAYLIGHT
BEGIN:STANDARD
TZOFFSETFROM:-0500
TZOFFSETTO:-0600
TZNAME:CST
DTSTART:20261101T070000
END:STANDARD
END:VTIMEZONE
BEGIN:VEVENT
DTSTART;TZID=America/Denver:20260102T183000
DTEND;TZID=America/Denver:20260102T193000
DTSTAMP:20260422T114721
CREATED:20251208T162451Z
LAST-MODIFIED:20251208T163014Z
UID:2781-1767378600-1767382200@calvarypraisechurch.org
SUMMARY:FRIDAY PRAYER SERVICE
DESCRIPTION:Luke 18:1 – And He spoke a parable unto them to this end\, that men ought always to pray and not to faint. \nMake a date January 9\, 2026
URL:https://calvarypraisechurch.org/event/friday-prayer-service-9/
LOCATION:CPC Auditorium\, 4080 23st NE\, Calgary\, Canada
CATEGORIES:Bible,Service,Weekly Meetings
ATTACH;FMTTYPE=image/png:https://calvarypraisechurch.org/wp-content/uploads/2025/12/converted_image.png
END:VEVENT
BEGIN:VEVENT
DTSTART;TZID=America/Denver:20251231T213000
DTEND;TZID=America/Denver:20260101T003000
DTSTAMP:20260422T114721
CREATED:20251208T074406Z
LAST-MODIFIED:20251208T165940Z
UID:2765-1767216600-1767227400@calvarypraisechurch.org
SUMMARY:CPC Crossover Worship Night 2025
DESCRIPTION:“A Night of Worship: Stepping Into the More of God” \nDecember 31st\, 2025  \nTime: 9:30 PM \nCalvary Praise Church – In Person & Online \nAs we close the chapter on 2025 and enter the new year\, join us for a powerful Night of\nWorship as we step into the More of God—His promises\, presence\, and possibilities. \nThis immersive experience will be filled with heartfelt worship\, prophetic prayers\, and\ndeclarations of faith. Together\, we’ll lift our praise as we thank God for His divine\nsettlement in 2025\, and step boldly into 2026\, positioned for greater manifestation. \nCome expectant. Leave empowered. \n“Now to Him who is able to do exceedingly abundantly above all that we ask or think…”\n– Ephesians 3:20
URL:https://calvarypraisechurch.org/event/cpc-crossover-worship-night-2025/
CATEGORIES:Service,Special Occasions
ATTACH;FMTTYPE=image/png:https://calvarypraisechurch.org/wp-content/uploads/2025/12/Crossover25.png
END:VEVENT
BEGIN:VEVENT
DTSTART;TZID=America/Denver:20251224T190000
DTEND;TZID=America/Denver:20251224T210000
DTSTAMP:20260422T114721
CREATED:20251208T073707Z
LAST-MODIFIED:20251208T180602Z
UID:2761-1766602800-1766610000@calvarypraisechurch.org
SUMMARY:CPC Christmas Eve Carols & Candlelight Service
DESCRIPTION:CPC Christmas Eve Carols & Candlelight Service “Light of the World: A Night of Wonder and Worship” \n”On this holy night\, we gather in song and light to remember the moment when heaven stepped into darkness and the Light of the world was born. \nJoin us for a heartwarming Christmas Eve experience as we worship together celebrating Jesus the One who brings peace to troubled hearts and light to every shadow. \nWednesday\, December 24\, 2025 \nTime: 7:00 PM \nBring your family. Invite a friend. Let’s make this a night of worship\, warmth\, and wonder
URL:https://calvarypraisechurch.org/event/cpc-christmas-eve-carols-candlelight-service/
CATEGORIES:Service,Special Occasions
ATTACH;FMTTYPE=image/png:https://calvarypraisechurch.org/wp-content/uploads/2025/12/carol-theme-1080-x-720-px.png
END:VEVENT
BEGIN:VEVENT
DTSTART;TZID=America/Chicago:20251029T183000
DTEND;TZID=America/Chicago:20251029T193000
DTSTAMP:20260422T114721
CREATED:20250911T151744Z
LAST-MODIFIED:20250911T151821Z
UID:2679-1761762600-1761766200@calvarypraisechurch.org
SUMMARY:Bible Studies
DESCRIPTION:
URL:https://calvarypraisechurch.org/event/bible-studies-32/
CATEGORIES:Bible,Weekly Meetings
ATTACH;FMTTYPE=image/png:https://calvarypraisechurch.org/wp-content/uploads/2017/08/CPC_bible_studies16229.png
END:VEVENT
BEGIN:VEVENT
DTSTART;TZID=America/Chicago:20251029T183000
DTEND;TZID=America/Chicago:20251029T193000
DTSTAMP:20260422T114721
CREATED:20250911T151623Z
LAST-MODIFIED:20250911T151624Z
UID:2677-1761762600-1761766200@calvarypraisechurch.org
SUMMARY:Bible Studies
DESCRIPTION:
URL:https://calvarypraisechurch.org/event/bible-studies-31/
CATEGORIES:Bible,Weekly Meetings
ATTACH;FMTTYPE=image/png:https://calvarypraisechurch.org/wp-content/uploads/2017/08/CPC_bible_studies16229.png
END:VEVENT
BEGIN:VEVENT
DTSTART;TZID=America/Chicago:20251022T183000
DTEND;TZID=America/Chicago:20251022T203000
DTSTAMP:20260422T114721
CREATED:20250911T151032Z
LAST-MODIFIED:20250911T151032Z
UID:2673-1761157800-1761165000@calvarypraisechurch.org
SUMMARY:Bible Studies
DESCRIPTION:
URL:https://calvarypraisechurch.org/event/bible-studies-29/
CATEGORIES:Bible,Weekly Meetings
ATTACH;FMTTYPE=image/png:https://calvarypraisechurch.org/wp-content/uploads/2017/08/CPC_bible_studies16229.png
END:VEVENT
BEGIN:VEVENT
DTSTART;TZID=America/Chicago:20251015T123000
DTEND;TZID=America/Chicago:20251015T193000
DTSTAMP:20260422T114721
CREATED:20250911T150639Z
LAST-MODIFIED:20250911T150639Z
UID:2669-1760531400-1760556600@calvarypraisechurch.org
SUMMARY:Bible Studies
DESCRIPTION:
URL:https://calvarypraisechurch.org/event/bible-studies-27/
CATEGORIES:Bible,Weekly Meetings
ATTACH;FMTTYPE=image/png:https://calvarypraisechurch.org/wp-content/uploads/2017/08/CPC_bible_studies16229.png
END:VEVENT
BEGIN:VEVENT
DTSTART;TZID=America/Chicago:20251008T183000
DTEND;TZID=America/Chicago:20251008T193000
DTSTAMP:20260422T114721
CREATED:20250911T145635Z
LAST-MODIFIED:20250911T145935Z
UID:2667-1759948200-1759951800@calvarypraisechurch.org
SUMMARY:Bible Studies
DESCRIPTION:
URL:https://calvarypraisechurch.org/event/bible-studies-26/
CATEGORIES:Bible,Weekly Meetings
ATTACH;FMTTYPE=image/png:https://calvarypraisechurch.org/wp-content/uploads/2017/08/CPC_bible_studies16229.png
END:VEVENT
BEGIN:VEVENT
DTSTART;TZID=America/Chicago:20251001T183000
DTEND;TZID=America/Chicago:20251001T193000
DTSTAMP:20260422T114721
CREATED:20250911T145256Z
LAST-MODIFIED:20250911T145902Z
UID:2665-1759343400-1759347000@calvarypraisechurch.org
SUMMARY:Bible Studies
DESCRIPTION:
URL:https://calvarypraisechurch.org/event/bible-studies-25/
CATEGORIES:Bible,Weekly Meetings
ATTACH;FMTTYPE=image/png:https://calvarypraisechurch.org/wp-content/uploads/2017/08/CPC_bible_studies16229.png
END:VEVENT
BEGIN:VEVENT
DTSTART;TZID=America/Chicago:20250924T183000
DTEND;TZID=America/Chicago:20250924T193000
DTSTAMP:20260422T114721
CREATED:20250911T144919Z
LAST-MODIFIED:20250911T145821Z
UID:2663-1758738600-1758742200@calvarypraisechurch.org
SUMMARY:Bible Studies
DESCRIPTION:
URL:https://calvarypraisechurch.org/event/bible-studies-24/
CATEGORIES:Bible,Weekly Meetings
ATTACH;FMTTYPE=image/png:https://calvarypraisechurch.org/wp-content/uploads/2017/08/CPC_bible_studies16229.png
END:VEVENT
BEGIN:VEVENT
DTSTART;TZID=America/Chicago:20250917T183000
DTEND;TZID=America/Chicago:20250917T193000
DTSTAMP:20260422T114721
CREATED:20250911T144630Z
LAST-MODIFIED:20250911T145019Z
UID:2660-1758133800-1758137400@calvarypraisechurch.org
SUMMARY:Bible Studies
DESCRIPTION:
URL:https://calvarypraisechurch.org/event/bible-studies-23/
CATEGORIES:Bible,Weekly Meetings
ATTACH;FMTTYPE=image/png:https://calvarypraisechurch.org/wp-content/uploads/2017/08/CPC_bible_studies16229.png
END:VEVENT
BEGIN:VEVENT
DTSTART;TZID=America/Chicago:20250911T080000
DTEND;TZID=America/Chicago:20250911T170000
DTSTAMP:20260422T114721
CREATED:20250911T151150Z
LAST-MODIFIED:20250911T151150Z
UID:2675-1757577600-1757610000@calvarypraisechurch.org
SUMMARY:Bible Studies
DESCRIPTION:
URL:https://calvarypraisechurch.org/event/bible-studies-30/
CATEGORIES:Bible,Weekly Meetings
ATTACH;FMTTYPE=image/png:https://calvarypraisechurch.org/wp-content/uploads/2017/08/CPC_bible_studies16229.png
END:VEVENT
BEGIN:VEVENT
DTSTART;TZID=America/Chicago:20250911T080000
DTEND;TZID=America/Chicago:20250911T170000
DTSTAMP:20260422T114721
CREATED:20250911T150811Z
LAST-MODIFIED:20250911T150811Z
UID:2671-1757577600-1757610000@calvarypraisechurch.org
SUMMARY:Bible Studies
DESCRIPTION:
URL:https://calvarypraisechurch.org/event/bible-studies-28/
CATEGORIES:Bible,Weekly Meetings
ATTACH;FMTTYPE=image/png:https://calvarypraisechurch.org/wp-content/uploads/2017/08/CPC_bible_studies16229.png
END:VEVENT
BEGIN:VEVENT
DTSTART;TZID=America/Chicago:20250910T183000
DTEND;TZID=America/Chicago:20250910T193000
DTSTAMP:20260422T114721
CREATED:20250911T144216Z
LAST-MODIFIED:20250911T150050Z
UID:2658-1757529000-1757532600@calvarypraisechurch.org
SUMMARY:Bible Studies
DESCRIPTION:
URL:https://calvarypraisechurch.org/event/bible-studies-22/
CATEGORIES:Bible,Weekly Meetings
ATTACH;FMTTYPE=image/png:https://calvarypraisechurch.org/wp-content/uploads/2017/08/CPC_bible_studies16229.png
END:VEVENT
BEGIN:VEVENT
DTSTART;TZID=America/Chicago:20250706T103000
DTEND;TZID=America/Chicago:20250706T140000
DTSTAMP:20260422T114721
CREATED:20250625T070015Z
LAST-MODIFIED:20250627T212918Z
UID:2569-1751797800-1751810400@calvarypraisechurch.org
SUMMARY:STAMPEDE BREAKFAST
DESCRIPTION:Sharing Christ Through Culture \nAs proud Albertans and a true Calgarian church we are always excited for a time to share Christ through our unique festival the “CALGARY STAMPEDE”. \nMake a date and remember to invite another to our Stampede Breakfast!! There’ll be outdoor games and loads of pancakes. \nWhen: Sunday\, 10:30pm – 2:00pm\nWhere: Church premises 4080 23rd ST. NE
URL:https://calvarypraisechurch.org/event/stampede-breakfast/
CATEGORIES:Family Event,Special Occasions
ATTACH;FMTTYPE=image/jpeg:https://calvarypraisechurch.org/wp-content/uploads/2025/06/Stampede.jpg
END:VEVENT
BEGIN:VEVENT
DTSTART;TZID=America/Chicago:20250625T183000
DTEND;TZID=America/Chicago:20250625T193000
DTSTAMP:20260422T114721
CREATED:20250621T070038Z
LAST-MODIFIED:20250625T163929Z
UID:2476-1750876200-1750879800@calvarypraisechurch.org
SUMMARY:Bible Studies
DESCRIPTION:
URL:https://calvarypraisechurch.org/event/bible-studies-21/
CATEGORIES:Bible,Weekly Meetings
END:VEVENT
BEGIN:VEVENT
DTSTART;TZID=America/Chicago:20250618T183000
DTEND;TZID=America/Chicago:20250618T193000
DTSTAMP:20260422T114721
CREATED:20250613T070032Z
LAST-MODIFIED:20250515T170814Z
UID:2471-1750271400-1750275000@calvarypraisechurch.org
SUMMARY:Bible Studies
DESCRIPTION:
URL:https://calvarypraisechurch.org/event/bible-studies-20/
CATEGORIES:Bible,Weekly Meetings
ATTACH;FMTTYPE=image/png:https://calvarypraisechurch.org/wp-content/uploads/2017/08/CPC_bible_studies16229.png
END:VEVENT
BEGIN:VEVENT
DTSTART;TZID=America/Chicago:20250611T183000
DTEND;TZID=America/Chicago:20250611T193000
DTSTAMP:20260422T114721
CREATED:20250606T070021Z
LAST-MODIFIED:20250515T170607Z
UID:2469-1749666600-1749670200@calvarypraisechurch.org
SUMMARY:Bible Studies
DESCRIPTION:
URL:https://calvarypraisechurch.org/event/bible-studies-19/
CATEGORIES:Bible,Weekly Meetings
ATTACH;FMTTYPE=image/png:https://calvarypraisechurch.org/wp-content/uploads/2017/08/CPC_bible_studies16229.png
END:VEVENT
BEGIN:VEVENT
DTSTART;TZID=America/Chicago:20250604T183000
DTEND;TZID=America/Chicago:20250604T193000
DTSTAMP:20260422T114721
CREATED:20250531T070029Z
LAST-MODIFIED:20250515T170541Z
UID:2467-1749061800-1749065400@calvarypraisechurch.org
SUMMARY:Bible Studies
DESCRIPTION:
URL:https://calvarypraisechurch.org/event/bible-studies-18/
CATEGORIES:Bible,Weekly Meetings
ATTACH;FMTTYPE=image/png:https://calvarypraisechurch.org/wp-content/uploads/2017/08/CPC_bible_studies16229.png
END:VEVENT
BEGIN:VEVENT
DTSTART;TZID=America/Chicago:20250530T190000
DTEND;TZID=America/Chicago:20250530T203000
DTSTAMP:20260422T114721
CREATED:20250413T133421Z
LAST-MODIFIED:20250529T060219Z
UID:2345-1748631600-1748637000@calvarypraisechurch.org
SUMMARY:Friday Prayer Service
DESCRIPTION:Friday Prayer Service \n\nPrayer is the exercise of drawing on the grace of God. — Oswald Chambers\n\nAs believers in Christ\, we know that prayer is not just a part of our lives—it is our lifeline. It fuels our faith\, strengthens our walk with God\, and touches the heart of our Heavenly Father. But the question is\, how central is prayer in your life? Is it guiding you daily or is it something you turn to only in moments of need? \nIf you desire to deepen your connection with God\, to learn how to pray with passion and persistence\, and to see the tangible power of prayer in your life\, then don’t miss this opportunity. Join us this Friday as we gather together to seek God in a time of fervent and faith-filled prayer. Together\, we will not just talk about prayer—we will experience its transforming power. \nWhen: Friday\, 7:00pm – 8:30pm\nWhere: Online  \nMeeting code: 4538295581 \nCome expecting\, come seeking\, and come ready to witness the power of prayer in your life!
URL:https://calvarypraisechurch.org/event/friday-prayer-service-7/
CATEGORIES:Service,Weekly Meetings
ATTACH;FMTTYPE=image/png:https://calvarypraisechurch.org/wp-content/uploads/2017/08/CPC_Friday_-service-169.png
END:VEVENT
BEGIN:VEVENT
DTSTART;TZID=America/Denver:20250528T183000
DTEND;TZID=America/Denver:20250528T193000
DTSTAMP:20260422T114721
CREATED:20250102T013857Z
LAST-MODIFIED:20250528T035051Z
UID:2033-1748457000-1748460600@calvarypraisechurch.org
SUMMARY:Bible Studies
DESCRIPTION:
URL:https://calvarypraisechurch.org/event/bible-studies-17/
LOCATION:Online
CATEGORIES:Bible,Weekly Meetings
ATTACH;FMTTYPE=image/png:https://calvarypraisechurch.org/wp-content/uploads/2017/08/CPC_bible_studies16229.png
END:VEVENT
BEGIN:VEVENT
DTSTART;TZID=America/Chicago:20250523T190000
DTEND;TZID=America/Chicago:20250523T203000
DTSTAMP:20260422T114721
CREATED:20250413T133301Z
LAST-MODIFIED:20250413T133301Z
UID:2343-1748026800-1748032200@calvarypraisechurch.org
SUMMARY:Friday Prayer Service
DESCRIPTION:Friday Prayer Service \n\nPrayer is the exercise of drawing on the grace of God. — Oswald Chambers\n\nAs believers in Christ\, we know that prayer is not just a part of our lives—it is our lifeline. It fuels our faith\, strengthens our walk with God\, and touches the heart of our Heavenly Father. But the question is\, how central is prayer in your life? Is it guiding you daily or is it something you turn to only in moments of need? \nIf you desire to deepen your connection with God\, to learn how to pray with passion and persistence\, and to see the tangible power of prayer in your life\, then don’t miss this opportunity. Join us this Friday as we gather together to seek God in a time of fervent and faith-filled prayer. Together\, we will not just talk about prayer—we will experience its transforming power. \nWhen: Friday\, 7:00pm – 8:30pm\nWhere: Online  \nMeeting code: 4538295581 \nCome expecting\, come seeking\, and come ready to witness the power of prayer in your life!
URL:https://calvarypraisechurch.org/event/friday-prayer-service-6/
CATEGORIES:Service,Weekly Meetings
ATTACH;FMTTYPE=image/png:https://calvarypraisechurch.org/wp-content/uploads/2017/08/CPC_Friday_-service-169.png
END:VEVENT
BEGIN:VEVENT
DTSTART;TZID=America/Denver:20250521T183000
DTEND;TZID=America/Denver:20250521T193000
DTSTAMP:20260422T114721
CREATED:20250102T013644Z
LAST-MODIFIED:20250210T070342Z
UID:2031-1747852200-1747855800@calvarypraisechurch.org
SUMMARY:Bible Studies
DESCRIPTION:
URL:https://calvarypraisechurch.org/event/bible-studies-16/
LOCATION:Online
CATEGORIES:Bible,Weekly Meetings
ATTACH;FMTTYPE=image/png:https://calvarypraisechurch.org/wp-content/uploads/2017/08/CPC_bible_studies16229.png
END:VEVENT
BEGIN:VEVENT
DTSTART;TZID=America/Chicago:20250516T190000
DTEND;TZID=America/Chicago:20250516T203000
DTSTAMP:20260422T114721
CREATED:20250413T133141Z
LAST-MODIFIED:20250413T133141Z
UID:2341-1747422000-1747427400@calvarypraisechurch.org
SUMMARY:Friday Prayer Service
DESCRIPTION:Friday Prayer Service \n\nPrayer is the exercise of drawing on the grace of God. — Oswald Chambers\n\nAs believers in Christ\, we know that prayer is not just a part of our lives—it is our lifeline. It fuels our faith\, strengthens our walk with God\, and touches the heart of our Heavenly Father. But the question is\, how central is prayer in your life? Is it guiding you daily or is it something you turn to only in moments of need? \nIf you desire to deepen your connection with God\, to learn how to pray with passion and persistence\, and to see the tangible power of prayer in your life\, then don’t miss this opportunity. Join us this Friday as we gather together to seek God in a time of fervent and faith-filled prayer. Together\, we will not just talk about prayer—we will experience its transforming power. \nWhen: Friday\, 7:00pm – 8:30pm\nWhere: Online  \nMeeting code: 4538295581 \nCome expecting\, come seeking\, and come ready to witness the power of prayer in your life!
URL:https://calvarypraisechurch.org/event/friday-prayer-service-5/
CATEGORIES:Service,Weekly Meetings
ATTACH;FMTTYPE=image/png:https://calvarypraisechurch.org/wp-content/uploads/2017/08/CPC_Friday_-service-169.png
END:VEVENT
BEGIN:VEVENT
DTSTART;TZID=America/Chicago:20250516T070000
DTEND;TZID=America/Chicago:20250516T203000
DTSTAMP:20260422T114721
CREATED:20250515T165527Z
LAST-MODIFIED:20250515T165527Z
UID:2465-1747378800-1747427400@calvarypraisechurch.org
SUMMARY:Friday Prayer Service
DESCRIPTION:Friday Prayer Service \n\nPrayer is the exercise of drawing on the grace of God. — Oswald Chambers\n\nAs believers in Christ\, we know that prayer is not just a part of our lives—it is our lifeline. It fuels our faith\, strengthens our walk with God\, and touches the heart of our Heavenly Father. But the question is\, how central is prayer in your life? Is it guiding you daily or is it something you turn to only in moments of need? \nIf you desire to deepen your connection with God\, to learn how to pray with passion and persistence\, and to see the tangible power of prayer in your life\, then don’t miss this opportunity. Join us this Friday as we gather together to seek God in a time of fervent and faith-filled prayer. Together\, we will not just talk about prayer—we will experience its transforming power. \nWhen: Friday\, 7:00pm – 8:30pm\nWhere: Online  \nMeeting code: 4538295581 \nCome expecting\, come seeking\, and come ready to witness the power of prayer in your life!
URL:https://calvarypraisechurch.org/event/friday-prayer-service-8/
CATEGORIES:Service,Weekly Meetings,Women's Events
ATTACH;FMTTYPE=image/png:https://calvarypraisechurch.org/wp-content/uploads/2017/08/CPC_Friday_-service-169.png
END:VEVENT
BEGIN:VEVENT
DTSTART;TZID=America/Denver:20250514T183000
DTEND;TZID=America/Denver:20250514T190000
DTSTAMP:20260422T114721
CREATED:20250102T013403Z
LAST-MODIFIED:20250210T063736Z
UID:2029-1747247400-1747249200@calvarypraisechurch.org
SUMMARY:Bible Studies
DESCRIPTION:
URL:https://calvarypraisechurch.org/event/bible-studies-15/
LOCATION:Online
CATEGORIES:Bible,Weekly Meetings
ATTACH;FMTTYPE=image/png:https://calvarypraisechurch.org/wp-content/uploads/2017/08/CPC_bible_studies16229.png
END:VEVENT
BEGIN:VEVENT
DTSTART;TZID=America/Chicago:20250509T190000
DTEND;TZID=America/Chicago:20250509T203000
DTSTAMP:20260422T114721
CREATED:20250413T133032Z
LAST-MODIFIED:20250413T133032Z
UID:2339-1746817200-1746822600@calvarypraisechurch.org
SUMMARY:Friday Prayer Service
DESCRIPTION:Friday Prayer Service \n\nPrayer is the exercise of drawing on the grace of God. — Oswald Chambers\n\nAs believers in Christ\, we know that prayer is not just a part of our lives—it is our lifeline. It fuels our faith\, strengthens our walk with God\, and touches the heart of our Heavenly Father. But the question is\, how central is prayer in your life? Is it guiding you daily or is it something you turn to only in moments of need? \nIf you desire to deepen your connection with God\, to learn how to pray with passion and persistence\, and to see the tangible power of prayer in your life\, then don’t miss this opportunity. Join us this Friday as we gather together to seek God in a time of fervent and faith-filled prayer. Together\, we will not just talk about prayer—we will experience its transforming power. \nWhen: Friday\, 7:00pm – 8:30pm\nWhere: Online  \nMeeting code: 4538295581 \nCome expecting\, come seeking\, and come ready to witness the power of prayer in your life!
URL:https://calvarypraisechurch.org/event/friday-prayer-service-4/
CATEGORIES:Service,Weekly Meetings
ATTACH;FMTTYPE=image/png:https://calvarypraisechurch.org/wp-content/uploads/2017/08/CPC_Friday_-service-169.png
END:VEVENT
BEGIN:VEVENT
DTSTART;TZID=America/Denver:20250507T180000
DTEND;TZID=America/Denver:20250507T190000
DTSTAMP:20260422T114721
CREATED:20250102T013229Z
LAST-MODIFIED:20250202T013350Z
UID:2027-1746640800-1746644400@calvarypraisechurch.org
SUMMARY:Bible Studies
DESCRIPTION:
URL:https://calvarypraisechurch.org/event/bible-studies-14/
LOCATION:Online
CATEGORIES:Bible,Weekly Meetings
ATTACH;FMTTYPE=image/png:https://calvarypraisechurch.org/wp-content/uploads/2017/08/CPC_bible_studies16229.png
END:VEVENT
BEGIN:VEVENT
DTSTART;TZID=America/Chicago:20250502T190000
DTEND;TZID=America/Chicago:20250502T203000
DTSTAMP:20260422T114721
CREATED:20250413T132847Z
LAST-MODIFIED:20250413T132847Z
UID:2337-1746212400-1746217800@calvarypraisechurch.org
SUMMARY:Friday Prayer Service
DESCRIPTION:Friday Prayer Service \n\nPrayer is the exercise of drawing on the grace of God. — Oswald Chambers\n\nAs believers in Christ\, we know that prayer is not just a part of our lives—it is our lifeline. It fuels our faith\, strengthens our walk with God\, and touches the heart of our Heavenly Father. But the question is\, how central is prayer in your life? Is it guiding you daily or is it something you turn to only in moments of need? \nIf you desire to deepen your connection with God\, to learn how to pray with passion and persistence\, and to see the tangible power of prayer in your life\, then don’t miss this opportunity. Join us this Friday as we gather together to seek God in a time of fervent and faith-filled prayer. Together\, we will not just talk about prayer—we will experience its transforming power. \nWhen: Friday\, 7:00pm – 8:30pm\nWhere: Online  \nMeeting code: 4538295581 \nCome expecting\, come seeking\, and come ready to witness the power of prayer in your life!
URL:https://calvarypraisechurch.org/event/friday-prayer-service-3/
CATEGORIES:Service,Weekly Meetings
ATTACH;FMTTYPE=image/png:https://calvarypraisechurch.org/wp-content/uploads/2017/08/CPC_Friday_-service-169.png
END:VEVENT
BEGIN:VEVENT
DTSTART;TZID=America/Denver:20250430T183000
DTEND;TZID=America/Denver:20250430T190000
DTSTAMP:20260422T114721
CREATED:20250102T013004Z
LAST-MODIFIED:20250428T223955Z
UID:2025-1746037800-1746039600@calvarypraisechurch.org
SUMMARY:Bible Studies
DESCRIPTION:
URL:https://calvarypraisechurch.org/event/bible-studies-13/
LOCATION:Online
CATEGORIES:Bible,Weekly Meetings
ATTACH;FMTTYPE=image/png:https://calvarypraisechurch.org/wp-content/uploads/2017/08/CPC_bible_studies16229-1.png
END:VEVENT
END:VCALENDAR