BEGIN:VCALENDAR
VERSION:2.0
PRODID:-//CPC- Calvary Praise Church - ECPv6.15.20//NONSGML v1.0//EN
CALSCALE:GREGORIAN
METHOD:PUBLISH
X-ORIGINAL-URL:https://calvarypraisechurch.org
X-WR-CALDESC:Events for CPC- Calvary Praise Church
REFRESH-INTERVAL;VALUE=DURATION:PT1H
X-Robots-Tag:noindex
X-PUBLISHED-TTL:PT1H
BEGIN:VTIMEZONE
TZID:America/Denver
BEGIN:DAYLIGHT
TZOFFSETFROM:-0700
TZOFFSETTO:-0600
TZNAME:MDT
DTSTART:20250309T090000
END:DAYLIGHT
BEGIN:STANDARD
TZOFFSETFROM:-0600
TZOFFSETTO:-0700
TZNAME:MST
DTSTART:20251102T080000
END:STANDARD
BEGIN:DAYLIGHT
TZOFFSETFROM:-0700
TZOFFSETTO:-0600
TZNAME:MDT
DTSTART:20260308T090000
END:DAYLIGHT
BEGIN:STANDARD
TZOFFSETFROM:-0600
TZOFFSETTO:-0700
TZNAME:MST
DTSTART:20261101T080000
END:STANDARD
BEGIN:DAYLIGHT
TZOFFSETFROM:-0700
TZOFFSETTO:-0600
TZNAME:MDT
DTSTART:20270314T090000
END:DAYLIGHT
BEGIN:STANDARD
TZOFFSETFROM:-0600
TZOFFSETTO:-0700
TZNAME:MST
DTSTART:20271107T080000
END:STANDARD
END:VTIMEZONE
BEGIN:VEVENT
DTSTART;TZID=America/Denver:20260220T080000
DTEND;TZID=America/Denver:20260220T170000
DTSTAMP:20260422T115048
CREATED:20251208T183916Z
LAST-MODIFIED:20251208T183916Z
UID:2818-1771574400-1771606800@calvarypraisechurch.org
SUMMARY:FRIDAY PRAYER SERVICE
DESCRIPTION:FRIDAY PRAYER SERVICE \nJohn 15:7 – If you abide in me\, and my words abide in you\, ask whatever you wish\, and it will be done for you. \nMake a date February 20\, 2026 \nCheck out our zoom link for bible studies https://zoom.us/j/4538295581
URL:https://calvarypraisechurch.org/event/friday-prayer-service-15/
LOCATION:CPC Auditorium\, 4080 23st NE\, Calgary\, Canada
CATEGORIES:Prayer Meeting,Weekly Meetings
ATTACH;FMTTYPE=image/png:https://calvarypraisechurch.org/wp-content/uploads/2025/12/converted_image.png
END:VEVENT
BEGIN:VEVENT
DTSTART;TZID=America/Denver:20260213T183000
DTEND;TZID=America/Denver:20260213T193000
DTSTAMP:20260422T115048
CREATED:20251208T183617Z
LAST-MODIFIED:20251208T183617Z
UID:2816-1771007400-1771011000@calvarypraisechurch.org
SUMMARY:FRIDAY PRAYER SERVICE
DESCRIPTION:FRIDAY PRAYER SERVICE \nPhilippians 4:6 – Do not be anxious about anything\, but in everything by prayer and supplication with thanksgiving let your requests be made known to God. \nMake a date February 13\, 2026 \nCheck out our zoom link for bible studies https://zoom.us/j/4538295581
URL:https://calvarypraisechurch.org/event/friday-prayer-service-14/
CATEGORIES:Prayer Meeting,Weekly Meetings
ATTACH;FMTTYPE=image/png:https://calvarypraisechurch.org/wp-content/uploads/2025/12/converted_image.png
END:VEVENT
BEGIN:VEVENT
DTSTART;TZID=America/Denver:20260206T183000
DTEND;TZID=America/Denver:20260206T193000
DTSTAMP:20260422T115048
CREATED:20251208T183401Z
LAST-MODIFIED:20251208T183401Z
UID:2814-1770402600-1770406200@calvarypraisechurch.org
SUMMARY:FRIDAY PRAYER SERVICE
DESCRIPTION:FRIDAY PRAYER SERVICE \nMatthew 26:41 – Watch and pray that you may not enter into temptation. The spirit indeed is willing\, but the flesh is weak.” \nMake a date February 6\, 2026 \nCheck out our zoom link for bible studies https://zoom.us/j/4538295581
URL:https://calvarypraisechurch.org/event/friday-prayer-service-13/
LOCATION:CPC Auditorium\, 4080 23st NE\, Calgary\, Canada
CATEGORIES:Prayer Meeting,Weekly Meetings
ATTACH;FMTTYPE=image/png:https://calvarypraisechurch.org/wp-content/uploads/2025/12/converted_image.png
END:VEVENT
BEGIN:VEVENT
DTSTART;TZID=America/Denver:20260104T060000
DTEND;TZID=America/Denver:20260124T180000
DTSTAMP:20260422T115048
CREATED:20260104T070050Z
LAST-MODIFIED:20260105T160423Z
UID:2836-1767506400-1769277600@calvarypraisechurch.org
SUMMARY:21 Days Fasting & Prayer
DESCRIPTION:We begin this year knowing unashamedly our dependency on God. Join our 21 Days Fasting and Prayer dubbed “I need more of you”
URL:https://calvarypraisechurch.org/event/21-days-fasting-prayer/
CATEGORIES:Fasting,Prayer Meeting
ATTACH;FMTTYPE=image/png:https://calvarypraisechurch.org/wp-content/uploads/2026/01/More_of_you_2026_fasting.png
END:VEVENT
END:VCALENDAR